BEGIN:VCALENDAR
VERSION:2.0
PRODID:-//CB1000/CB1300 Club Nederland - ECPv6.15.20//NONSGML v1.0//EN
CALSCALE:GREGORIAN
METHOD:PUBLISH
X-ORIGINAL-URL:https://www.superfour.nl
X-WR-CALDESC:Evenementen voor CB1000/CB1300 Club Nederland
REFRESH-INTERVAL;VALUE=DURATION:PT1H
X-Robots-Tag:noindex
X-PUBLISHED-TTL:PT1H
BEGIN:VTIMEZONE
TZID:Europe/Paris
BEGIN:DAYLIGHT
TZOFFSETFROM:+0100
TZOFFSETTO:+0200
TZNAME:CEST
DTSTART:20250330T010000
END:DAYLIGHT
BEGIN:STANDARD
TZOFFSETFROM:+0200
TZOFFSETTO:+0100
TZNAME:CET
DTSTART:20251026T010000
END:STANDARD
BEGIN:DAYLIGHT
TZOFFSETFROM:+0100
TZOFFSETTO:+0200
TZNAME:CEST
DTSTART:20260329T010000
END:DAYLIGHT
BEGIN:STANDARD
TZOFFSETFROM:+0200
TZOFFSETTO:+0100
TZNAME:CET
DTSTART:20261025T010000
END:STANDARD
BEGIN:DAYLIGHT
TZOFFSETFROM:+0100
TZOFFSETTO:+0200
TZNAME:CEST
DTSTART:20270328T010000
END:DAYLIGHT
BEGIN:STANDARD
TZOFFSETFROM:+0200
TZOFFSETTO:+0100
TZNAME:CET
DTSTART:20271031T010000
END:STANDARD
END:VTIMEZONE
BEGIN:VEVENT
DTSTART;TZID=Europe/Paris:20260426T100000
DTEND;TZID=Europe/Paris:20260426T170000
DTSTAMP:20260420T083708
CREATED:20260330T085458Z
LAST-MODIFIED:20260330T085458Z
UID:10386-1777197600-1777222800@www.superfour.nl
SUMMARY:Rondje Woerden 139 km
DESCRIPTION:Rondje Woerden 139 km van en naar https://maps.app.goo.gl/4YN43erwjtXi1av17
URL:https://www.superfour.nl/event/rondje-woerden-139-km/
CATEGORIES:Clubmeeting
END:VEVENT
BEGIN:VEVENT
DTSTART;TZID=Europe/Paris:20260510T100000
DTEND;TZID=Europe/Paris:20260510T170000
DTSTAMP:20260420T083708
CREATED:20260330T085601Z
LAST-MODIFIED:20260330T085601Z
UID:10388-1778407200-1778432400@www.superfour.nl
SUMMARY:Moederdag toertocht
DESCRIPTION:Moederdag toertocht ntb.
URL:https://www.superfour.nl/event/moederdag-toertocht/
CATEGORIES:Clubmeeting
END:VEVENT
BEGIN:VEVENT
DTSTART;TZID=Europe/Paris:20260524T100000
DTEND;TZID=Europe/Paris:20260524T170000
DTSTAMP:20260420T083708
CREATED:20260330T090014Z
LAST-MODIFIED:20260330T092622Z
UID:10392-1779616800-1779642000@www.superfour.nl
SUMMARY:Pinkster toertocht (optie 1)
DESCRIPTION:1e Pinksterdag. Pinkster toertocht ntb.
URL:https://www.superfour.nl/event/pinkster-toertocht-optie-1/
CATEGORIES:Clubmeeting
END:VEVENT
BEGIN:VEVENT
DTSTART;TZID=Europe/Paris:20260525T100000
DTEND;TZID=Europe/Paris:20260525T170000
DTSTAMP:20260420T083708
CREATED:20260330T090119Z
LAST-MODIFIED:20260330T090350Z
UID:10394-1779703200-1779728400@www.superfour.nl
SUMMARY:Pinkster toertocht (optie 2)
DESCRIPTION:2e Pinksterdag Pinkster toertocht ntb.
URL:https://www.superfour.nl/event/pinkster-toertocht-optie-2/
CATEGORIES:Clubmeeting
END:VEVENT
BEGIN:VEVENT
DTSTART;TZID=Europe/Paris:20260607T100000
DTEND;TZID=Europe/Paris:20260607T170000
DTSTAMP:20260420T083708
CREATED:20260330T090639Z
LAST-MODIFIED:20260330T090639Z
UID:10402-1780826400-1780851600@www.superfour.nl
SUMMARY:Toertocht
DESCRIPTION:Toertocht ntb.
URL:https://www.superfour.nl/event/toertocht-10/
CATEGORIES:Clubmeeting
END:VEVENT
BEGIN:VEVENT
DTSTART;TZID=Europe/Paris:20260621T080000
DTEND;TZID=Europe/Paris:20260621T170000
DTSTAMP:20260420T083708
CREATED:20260330T090857Z
LAST-MODIFIED:20260330T092144Z
UID:10408-1782028800-1782061200@www.superfour.nl
SUMMARY:Toertocht
DESCRIPTION:Toertocht ntb.
URL:https://www.superfour.nl/event/toertocht-11/
CATEGORIES:Clubmeeting
END:VEVENT
BEGIN:VEVENT
DTSTART;TZID=Europe/Paris:20260705T100000
DTEND;TZID=Europe/Paris:20260705T170000
DTSTAMP:20260420T083708
CREATED:20260330T091038Z
LAST-MODIFIED:20260330T092144Z
UID:10412-1783245600-1783270800@www.superfour.nl
SUMMARY:Thuisblijverstoertocht
DESCRIPTION:Thuisblijverstoertocht ntb. afhankelijk van opkomst (ivm. vakantieperiode)
URL:https://www.superfour.nl/event/thuisblijverstoertocht-7/
CATEGORIES:Clubmeeting
END:VEVENT
BEGIN:VEVENT
DTSTART;TZID=Europe/Paris:20260719T100000
DTEND;TZID=Europe/Paris:20260719T170000
DTSTAMP:20260420T083708
CREATED:20260330T091432Z
LAST-MODIFIED:20260330T092144Z
UID:10416-1784455200-1784480400@www.superfour.nl
SUMMARY:Thuisblijverstoertocht
DESCRIPTION:Thuisblijverstoertocht ntb. afhankelijk van opkomst (ivm. vakantieperiode)
URL:https://www.superfour.nl/event/thuisblijverstoertocht-8/
CATEGORIES:Clubmeeting
END:VEVENT
BEGIN:VEVENT
DTSTART;TZID=Europe/Paris:20260802T100000
DTEND;TZID=Europe/Paris:20260802T170000
DTSTAMP:20260420T083708
CREATED:20260330T091506Z
LAST-MODIFIED:20260330T092144Z
UID:10418-1785664800-1785690000@www.superfour.nl
SUMMARY:Thuisblijverstoertocht
DESCRIPTION:Thuisblijverstoertocht ntb. afhankelijk van opkomst (ivm. vakantieperiode)
URL:https://www.superfour.nl/event/thuisblijverstoertocht-9/
CATEGORIES:Clubmeeting
END:VEVENT
BEGIN:VEVENT
DTSTART;TZID=Europe/Paris:20260816T100000
DTEND;TZID=Europe/Paris:20260816T170000
DTSTAMP:20260420T083708
CREATED:20260330T091540Z
LAST-MODIFIED:20260330T092144Z
UID:10420-1786874400-1786899600@www.superfour.nl
SUMMARY:Thuisblijverstoertocht (Optie 1 voor de CBBQ2026)
DESCRIPTION:Thuisblijverstoertocht ntb. afhankelijk van opkomst (ivm. vakantieperiode) \nOPTIE 1 voor de CBBQ2026? met toertochtje ntb.
URL:https://www.superfour.nl/event/thuisblijverstoertocht-10/
CATEGORIES:Clubmeeting
END:VEVENT
BEGIN:VEVENT
DTSTART;TZID=Europe/Paris:20260830T100000
DTEND;TZID=Europe/Paris:20260830T170000
DTSTAMP:20260420T083708
CREATED:20260330T091606Z
LAST-MODIFIED:20260330T092143Z
UID:10422-1788084000-1788109200@www.superfour.nl
SUMMARY:Thuisblijverstoertocht (Optie 2 voor de CBBQ2026)
DESCRIPTION:Thuisblijverstoertocht ntb. afhankelijk van opkomst (ivm. vakantieperiode) \nOPTIE 2 voor de CBBQ2026. Bij goed weer op beide data rijden we deze dag elders alleen een toertocht
URL:https://www.superfour.nl/event/thuisblijverstoertocht-11/
CATEGORIES:Clubmeeting
END:VEVENT
BEGIN:VEVENT
DTSTART;TZID=Europe/Paris:20260913T100000
DTEND;TZID=Europe/Paris:20260913T170000
DTSTAMP:20260420T083708
CREATED:20260330T091921Z
LAST-MODIFIED:20260330T092143Z
UID:10427-1789293600-1789318800@www.superfour.nl
SUMMARY:Toertocht
DESCRIPTION:Toertocht ntb.
URL:https://www.superfour.nl/event/toertocht-12/
CATEGORIES:Clubmeeting
END:VEVENT
BEGIN:VEVENT
DTSTART;TZID=Europe/Paris:20260927T100000
DTEND;TZID=Europe/Paris:20260927T170000
DTSTAMP:20260420T083708
CREATED:20260330T091946Z
LAST-MODIFIED:20260330T092143Z
UID:10429-1790503200-1790528400@www.superfour.nl
SUMMARY:Toertocht
DESCRIPTION:Toertocht ntb.
URL:https://www.superfour.nl/event/toertocht-13/
CATEGORIES:Clubmeeting
END:VEVENT
BEGIN:VEVENT
DTSTART;TZID=Europe/Paris:20261011T100000
DTEND;TZID=Europe/Paris:20261011T170000
DTSTAMP:20260420T083708
CREATED:20260330T092013Z
LAST-MODIFIED:20260330T092143Z
UID:10431-1791712800-1791738000@www.superfour.nl
SUMMARY:Toertocht
DESCRIPTION:Toertocht ntb.
URL:https://www.superfour.nl/event/toertocht-14/
CATEGORIES:Clubmeeting
END:VEVENT
BEGIN:VEVENT
DTSTART;TZID=Europe/Paris:20261025T100000
DTEND;TZID=Europe/Paris:20261025T170000
DTSTAMP:20260420T083708
CREATED:20260330T092054Z
LAST-MODIFIED:20260330T093056Z
UID:10433-1792922400-1792947600@www.superfour.nl
SUMMARY:seizoensafsluiting
DESCRIPTION:seizoensafsluiting\, afhankelijk van het weer) Einde zomertijd toertocht ntb.
URL:https://www.superfour.nl/event/seizoensafsluiting/
CATEGORIES:Clubmeeting
END:VEVENT
END:VCALENDAR