BEGIN:VCALENDAR
VERSION:2.0
PRODID:-//CB1000/CB1300 Club Nederland - ECPv6.15.20//NONSGML v1.0//EN
CALSCALE:GREGORIAN
METHOD:PUBLISH
X-WR-CALNAME:CB1000/CB1300 Club Nederland
X-ORIGINAL-URL:https://www.superfour.nl
X-WR-CALDESC:Evenementen voor CB1000/CB1300 Club Nederland
REFRESH-INTERVAL;VALUE=DURATION:PT1H
X-Robots-Tag:noindex
X-PUBLISHED-TTL:PT1H
BEGIN:VTIMEZONE
TZID:Europe/Amsterdam
BEGIN:DAYLIGHT
TZOFFSETFROM:+0100
TZOFFSETTO:+0200
TZNAME:CEST
DTSTART:20230326T010000
END:DAYLIGHT
BEGIN:STANDARD
TZOFFSETFROM:+0200
TZOFFSETTO:+0100
TZNAME:CET
DTSTART:20231029T010000
END:STANDARD
BEGIN:DAYLIGHT
TZOFFSETFROM:+0100
TZOFFSETTO:+0200
TZNAME:CEST
DTSTART:20240331T010000
END:DAYLIGHT
BEGIN:STANDARD
TZOFFSETFROM:+0200
TZOFFSETTO:+0100
TZNAME:CET
DTSTART:20241027T010000
END:STANDARD
BEGIN:DAYLIGHT
TZOFFSETFROM:+0100
TZOFFSETTO:+0200
TZNAME:CEST
DTSTART:20250330T010000
END:DAYLIGHT
BEGIN:STANDARD
TZOFFSETFROM:+0200
TZOFFSETTO:+0100
TZNAME:CET
DTSTART:20251026T010000
END:STANDARD
END:VTIMEZONE
BEGIN:VEVENT
DTSTART;VALUE=DATE:20241020
DTEND;VALUE=DATE:20241021
DTSTAMP:20260424T054839
CREATED:20240506T180018Z
LAST-MODIFIED:20240506T185247Z
UID:9798-1729382400-1729468799@www.superfour.nl
SUMMARY:Toertocht n.n.b
DESCRIPTION:Zondag 20 of 27 oktober (seizoen afsluiting\, afhankelijk van het weer):Toertocht ntb.
URL:https://www.superfour.nl/event/toertocht-n-n-b-5/
CATEGORIES:Clubmeeting
END:VEVENT
END:VCALENDAR