BEGIN:VCALENDAR
VERSION:2.0
PRODID:-//CB1000/CB1300 Club Nederland - ECPv6.15.20//NONSGML v1.0//EN
CALSCALE:GREGORIAN
METHOD:PUBLISH
X-WR-CALNAME:CB1000/CB1300 Club Nederland
X-ORIGINAL-URL:https://www.superfour.nl
X-WR-CALDESC:Evenementen voor CB1000/CB1300 Club Nederland
REFRESH-INTERVAL;VALUE=DURATION:PT1H
X-Robots-Tag:noindex
X-PUBLISHED-TTL:PT1H
BEGIN:VTIMEZONE
TZID:Europe/Paris
BEGIN:DAYLIGHT
TZOFFSETFROM:+0100
TZOFFSETTO:+0200
TZNAME:CEST
DTSTART:20250330T010000
END:DAYLIGHT
BEGIN:STANDARD
TZOFFSETFROM:+0200
TZOFFSETTO:+0100
TZNAME:CET
DTSTART:20251026T010000
END:STANDARD
BEGIN:DAYLIGHT
TZOFFSETFROM:+0100
TZOFFSETTO:+0200
TZNAME:CEST
DTSTART:20260329T010000
END:DAYLIGHT
BEGIN:STANDARD
TZOFFSETFROM:+0200
TZOFFSETTO:+0100
TZNAME:CET
DTSTART:20261025T010000
END:STANDARD
BEGIN:DAYLIGHT
TZOFFSETFROM:+0100
TZOFFSETTO:+0200
TZNAME:CEST
DTSTART:20270328T010000
END:DAYLIGHT
BEGIN:STANDARD
TZOFFSETFROM:+0200
TZOFFSETTO:+0100
TZNAME:CET
DTSTART:20271031T010000
END:STANDARD
END:VTIMEZONE
BEGIN:VEVENT
DTSTART;TZID=Europe/Paris:20260705T100000
DTEND;TZID=Europe/Paris:20260705T170000
DTSTAMP:20260420T150730
CREATED:20260330T091038Z
LAST-MODIFIED:20260330T092144Z
UID:10412-1783245600-1783270800@www.superfour.nl
SUMMARY:Thuisblijverstoertocht
DESCRIPTION:Thuisblijverstoertocht ntb. afhankelijk van opkomst (ivm. vakantieperiode)
URL:https://www.superfour.nl/event/thuisblijverstoertocht-7/
CATEGORIES:Clubmeeting
END:VEVENT
BEGIN:VEVENT
DTSTART;TZID=Europe/Paris:20260719T100000
DTEND;TZID=Europe/Paris:20260719T170000
DTSTAMP:20260420T150730
CREATED:20260330T091432Z
LAST-MODIFIED:20260330T092144Z
UID:10416-1784455200-1784480400@www.superfour.nl
SUMMARY:Thuisblijverstoertocht
DESCRIPTION:Thuisblijverstoertocht ntb. afhankelijk van opkomst (ivm. vakantieperiode)
URL:https://www.superfour.nl/event/thuisblijverstoertocht-8/
CATEGORIES:Clubmeeting
END:VEVENT
END:VCALENDAR