BEGIN:VCALENDAR
VERSION:2.0
PRODID:-//CB1000/CB1300 Club Nederland - ECPv6.15.20//NONSGML v1.0//EN
CALSCALE:GREGORIAN
METHOD:PUBLISH
X-ORIGINAL-URL:https://www.superfour.nl
X-WR-CALDESC:Evenementen voor CB1000/CB1300 Club Nederland
REFRESH-INTERVAL;VALUE=DURATION:PT1H
X-Robots-Tag:noindex
X-PUBLISHED-TTL:PT1H
BEGIN:VTIMEZONE
TZID:Europe/Paris
BEGIN:DAYLIGHT
TZOFFSETFROM:+0100
TZOFFSETTO:+0200
TZNAME:CEST
DTSTART:20250330T010000
END:DAYLIGHT
BEGIN:STANDARD
TZOFFSETFROM:+0200
TZOFFSETTO:+0100
TZNAME:CET
DTSTART:20251026T010000
END:STANDARD
BEGIN:DAYLIGHT
TZOFFSETFROM:+0100
TZOFFSETTO:+0200
TZNAME:CEST
DTSTART:20260329T010000
END:DAYLIGHT
BEGIN:STANDARD
TZOFFSETFROM:+0200
TZOFFSETTO:+0100
TZNAME:CET
DTSTART:20261025T010000
END:STANDARD
BEGIN:DAYLIGHT
TZOFFSETFROM:+0100
TZOFFSETTO:+0200
TZNAME:CEST
DTSTART:20270328T010000
END:DAYLIGHT
BEGIN:STANDARD
TZOFFSETFROM:+0200
TZOFFSETTO:+0100
TZNAME:CET
DTSTART:20271031T010000
END:STANDARD
END:VTIMEZONE
BEGIN:VEVENT
DTSTART;TZID=Europe/Paris:20260510T100000
DTEND;TZID=Europe/Paris:20260510T170000
DTSTAMP:20260420T120432
CREATED:20260330T085601Z
LAST-MODIFIED:20260330T085601Z
UID:10388-1778407200-1778432400@www.superfour.nl
SUMMARY:Moederdag toertocht
DESCRIPTION:Moederdag toertocht ntb.
URL:https://www.superfour.nl/event/moederdag-toertocht/
CATEGORIES:Clubmeeting
END:VEVENT
BEGIN:VEVENT
DTSTART;TZID=Europe/Paris:20260524T100000
DTEND;TZID=Europe/Paris:20260524T170000
DTSTAMP:20260420T120432
CREATED:20260330T090014Z
LAST-MODIFIED:20260330T092622Z
UID:10392-1779616800-1779642000@www.superfour.nl
SUMMARY:Pinkster toertocht (optie 1)
DESCRIPTION:1e Pinksterdag. Pinkster toertocht ntb.
URL:https://www.superfour.nl/event/pinkster-toertocht-optie-1/
CATEGORIES:Clubmeeting
END:VEVENT
BEGIN:VEVENT
DTSTART;TZID=Europe/Paris:20260525T100000
DTEND;TZID=Europe/Paris:20260525T170000
DTSTAMP:20260420T120432
CREATED:20260330T090119Z
LAST-MODIFIED:20260330T090350Z
UID:10394-1779703200-1779728400@www.superfour.nl
SUMMARY:Pinkster toertocht (optie 2)
DESCRIPTION:2e Pinksterdag Pinkster toertocht ntb.
URL:https://www.superfour.nl/event/pinkster-toertocht-optie-2/
CATEGORIES:Clubmeeting
END:VEVENT
END:VCALENDAR